BEGIN:VCALENDAR
VERSION:2.0
PRODID:-//ChamberMaster//Event Calendar 2.0//EN
METHOD:PUBLISH
X-PUBLISHED-TTL:P3D
REFRESH-INTERVAL:P3D
CALSCALE:GREGORIAN
BEGIN:VEVENT
DTSTART;VALUE=DATE:20230602
DTEND;VALUE=DATE:20230603
TRANSP:TRANSPARENT
X-MICROSOFT-CDO-ALLDAYEVENT:TRUE
SUMMARY:2023 Clay Shoot
DESCRIPTION:The Chamber's 11th Annual Clay Shoot Classic is a day-long clay shooting tournament hosted by Old South Clays in Athens\, Ala. Teams and sponsorships for the event were sold through the Chamber's Total Resource Campaign. For more information about purchasing a team for the 2023 event\, please contact the Chamber at (256) 353-5312.\n\n\n\nThis event made possible by Presenting Sponsor:  Contractor Services & Fabrication Inc. and Lunch & Safety Briefing Sponsor Valent Group.
X-ALT-DESC;FMTTYPE=text/html:<p><span style="color: rgb(51\, 51\, 51)\; font-family: sans-serif\, Arial\, Verdana\, &quot\;Trebuchet MS&quot\;\; font-size: 13px\; background-color: rgb(255\, 255\, 255)\;">The Chamber&#39\;s 11th Annual Clay Shoot Classic is a day-long clay shooting tournament hosted by Old South Clays in Athens\, Ala. Teams and sponsorships for the event were sold through the Chamber&#39\;s Total Resource Campaign. For more information about purchasing a team for the 2023&nbsp\;event\, please contact the Chamber at (256) 353-5312.</span><br />\n<br />\n<span style="color: rgb(51\, 51\, 51)\; font-family: sans-serif\, Arial\, Verdana\, &quot\;Trebuchet MS&quot\;\; font-size: 13px\; background-color: rgb(255\, 255\, 255)\;">This event made possible by Presenting Sponsor:&nbsp\;&nbsp\;<strong><u>Contractor Services &amp\; Fabrication Inc.&nbsp\;</u></strong>and Lunch &amp\; Safety Briefing Sponsor&nbsp\;<u>Valent Group.</u></span><br />\n<br />\n&nbsp\;</p>\n
LOCATION:Old South Clays
UID:e.447.2993
SEQUENCE:3
DTSTAMP:20260424T223243Z
URL:https://tools.dcc.org/events/details/2023-clay-shoot-2993
END:VEVENT

END:VCALENDAR
