BEGIN:VCALENDAR
VERSION:2.0
PRODID:-//ChamberMaster//Event Calendar 2.0//EN
METHOD:PUBLISH
X-PUBLISHED-TTL:P3D
REFRESH-INTERVAL:P3D
CALSCALE:GREGORIAN
BEGIN:VEVENT
DTSTART:20230802T170000Z
DTEND:20230802T180000Z
X-MICROSOFT-CDO-ALLDAYEVENT:FALSE
SUMMARY:2023 Emerging Leaders - August
DESCRIPTION:Artificial Intelligence (AI) is a rapidly growing field with the potential to change the way we interact with technology. As it continues to develop\, it is important to understand both the potential benefits and risks associated with its use. At our next Emerging Leaders event\, Bryan Clark\, owner of 3 Paths Marketing\, will discuss the benefits and security risks of using AI both personally and professionally. \n\n \n\nBryan has taken several AI courses through Courseera and Code Academy and has used AI to generate thousands of prompts across different business niches & departments.\n\n \n\nThis Emerging Leaders event welcomes anyone to grow as a leader and connect with other young professionals in the area. Lunch will be provided as part of your registration. Please help us spread the word by inviting other professionals on your team.
X-ALT-DESC;FMTTYPE=text/html:<div century="" font-size:="" style="color: rgb(1\, 0\, 0)\; font-family: " white-space-collapse:=""><span style="font-size:16px\;"><span style="font-family:times new roman\;"><span new="" style="color: rgb(2\, 0\, 0)\;" times="">Artificial Intelligence (AI) is a rapidly growing field with the potential to change the way we interact with technology. As it continues to develop\, it is important to understand both the potential benefits and risks associated with its use. At our next Emerging Leaders event\, Bryan Clark\, owner of 3 Paths Marketing\, will discuss the benefits and security risks of using AI&nbsp\;both personally and professionally. </span></span></span></div>\n\n<div century="" font-size:="" style="color: rgb(1\, 0\, 0)\; font-family: " white-space-collapse:="">&nbsp\;</div>\n\n<div century="" font-size:="" style="color: rgb(1\, 0\, 0)\; font-family: " white-space-collapse:=""><span style="font-size:16px\;"><span style="font-family:times new roman\;"><span new="" style="color: rgb(2\, 0\, 0)\;" times="">Bryan </span><span font-size:="" new="" times="">has taken several AI courses through Courseera and Code Academy and has used AI to generate thousands of prompts across different business niches &amp\; departments.</span></span></span></div>\n\n<div century="" font-size:="" style="color: rgb(1\, 0\, 0)\; font-family: " white-space-collapse:="">&nbsp\;</div>\n\n<div century="" font-size:="" style="color: rgb(1\, 0\, 0)\; font-family: " white-space-collapse:=""><span style="font-size:16px\;"><span style="font-family:times new roman\;"><span new="" style="color: rgb(2\, 0\, 0)\;" times="">This Emerging Leaders event welcomes anyone to grow as a leader and connect with other young professionals in the area. Lunch will be provided as part of your registration. Please help us spread the word by inviting other professionals on your team.</span></span></span></div>\n
LOCATION:The Chamber's Contractor Service & Fabrication\, Inc. Boardroom 515 6th Avenue NE\, Decatur\, AL 35601
UID:e.447.2932
SEQUENCE:3
DTSTAMP:20260420T231706Z
URL:https://tools.dcc.org/events/details/2023-emerging-leaders-august-2932
END:VEVENT

END:VCALENDAR
