BEGIN:VCALENDAR
VERSION:2.0
PRODID:-//ChamberMaster//Event Calendar 2.0//EN
METHOD:PUBLISH
X-PUBLISHED-TTL:P3D
REFRESH-INTERVAL:P3D
CALSCALE:GREGORIAN
BEGIN:VEVENT
DTSTART:20240916T210000Z
DTEND:20240916T213000Z
X-MICROSOFT-CDO-ALLDAYEVENT:FALSE
SUMMARY:2024 Ribbon Cutting: The Ark Pediatric Therapy Services LLC
DESCRIPTION:The Decatur-Morgan County Chamber of Commerce will host a ribbon cutting for Ark Pediatric Therapy Services on Monday\, September 16\, 2024 at 4:00 p.m.
X-ALT-DESC;FMTTYPE=text/html:<span style="font-size:16px\;">The Decatur-Morgan County Chamber of Commerce will host a ribbon cutting for Ark Pediatric Therapy Services on Monday\, September 16\, 2024 at 4:00 p.m.&nbsp\;</span>
LOCATION:207 Commerce Cir Unit C Decatur\, AL 35601
UID:e.447.4180
SEQUENCE:3
DTSTAMP:20260419T133450Z
URL:https://tools.dcc.org/events/details/2024-ribbon-cutting-the-ark-pediatric-therapy-services-llc-4180
END:VEVENT

END:VCALENDAR
