BEGIN:VCALENDAR
VERSION:2.0
PRODID:-//ChamberMaster//Event Calendar 2.0//EN
METHOD:PUBLISH
X-PUBLISHED-TTL:P3D
REFRESH-INTERVAL:P3D
CALSCALE:GREGORIAN
BEGIN:VEVENT
DTSTART:20260422T170000Z
DTEND:20260422T173000Z
X-MICROSOFT-CDO-ALLDAYEVENT:FALSE
SUMMARY:Ribbon Cutting: Estes Express Lines
DESCRIPTION:The Decatur-Morgan County Chamber of Commerce will hold a ribbon cutting for Estes Express Lines on Wednesday\, April 22 at 12pm.
X-ALT-DESC;FMTTYPE=text/html:<span style="font-size:16px\;">The Decatur-Morgan County Chamber of Commerce will hold a ribbon cutting for Estes Express Lines on Wednesday\, April 22 at 12pm.</span>
LOCATION:1901 Hwy 20 W Decatur\, AL 35601
UID:e.447.5218
SEQUENCE:3
DTSTAMP:20260420T185201Z
URL:https://tools.dcc.org/events/details/ribbon-cutting-estes-express-lines-5218
END:VEVENT

END:VCALENDAR
