BEGIN:VCALENDAR
VERSION:2.0
PRODID:-//ChamberMaster//Event Calendar 2.0//EN
METHOD:PUBLISH
X-PUBLISHED-TTL:P3D
REFRESH-INTERVAL:P3D
CALSCALE:GREGORIAN
BEGIN:VEVENT
DTSTART:20241010T230000Z
DTEND:20241011T010000Z
X-MICROSOFT-CDO-ALLDAYEVENT:FALSE
SUMMARY:Singo Bingo
DESCRIPTION:Its Bingo but with Music! Starts at 6pm with 3 Rounds.  It's Fun & Free.  Prizes for Winners
X-ALT-DESC;FMTTYPE=text/html:Its Bingo but with Music! Starts at 6pm with 3 Rounds.&nbsp\; It&#39\;s Fun &amp\; Free.&nbsp\; Prizes for Winners
LOCATION:XEO
UID:e.447.3742
SEQUENCE:3
DTSTAMP:20260425T133116Z
URL:https://tools.dcc.org/events/details/singo-bingo-10-10-2024-3742
END:VEVENT

END:VCALENDAR
